Workbook

Sheet 抽獎名冊
A1: 員工編號 | B1: 中文姓名 | C1: 隨機亂數 | D1: 排序 | E1: 中獎者 | F1: 已中獎標示
A2: 0001 | B2: 周芝盈 | C2: =IF(F2="",RAND(),"") -> 0.67856733 | D2: =IF(C2="","",RANK(C2,C:C)) -> 6 | E2: =IF(D2=1,"中獎囉","") | F2: =IF(ISNA(MATCH(A2,抽獎頁面!$J$6:$J$18,0)),"","已中獎")
A3: 0002 | B3: 林得娥 | C3: =IF(F3="",RAND(),"") -> 0.64472263 | D3: =IF(C3="","",RANK(C3,C:C)) -> 7 | E3: =IF(D3=1,"中獎囉","") | F3: =IF(ISNA(MATCH(A3,抽獎頁面!$J$6:$J$18,0)),"","已中獎")
A4: 0003 | B4: 張菁屏 | C4: =IF(F4="",RAND(),"") -> 0.85677029 | D4: =IF(C4="","",RANK(C4,C:C)) -> 3 | E4: =IF(D4=1,"中獎囉","") | F4: =IF(ISNA(MATCH(A4,抽獎頁面!$J$6:$J$18,0)),"","已中獎")
A5: 0004 | B5: 柳仁謙 | C5: =IF(F5="",RAND(),"") -> 0.36559287 | D5: =IF(C5="","",RANK(C5,C:C)) -> 11 | E5: =IF(D5=1,"中獎囉","") | F5: =IF(ISNA(MATCH(A5,抽獎頁面!$J$6:$J$18,0)),"","已中獎")
A6: 0005 | B6: 吳雅辛 | C6: =IF(F6="",RAND(),"") -> 0.08323288 | D6: =IF(C6="","",RANK(C6,C:C)) -> 13 | E6: =IF(D6=1,"中獎囉","") | F6: =IF(ISNA(MATCH(A6,抽獎頁面!$J$6:$J$18,0)),"","已中獎")
A7: 0006 | B7: 劉堯育 | C7: =IF(F7="",RAND(),"") -> 0.2780056 | D7: =IF(C7="","",RANK(C7,C:C)) -> 12 | E7: =IF(D7=1,"中獎囉","") | F7: =IF(ISNA(MATCH(A7,抽獎頁面!$J$6:$J$18,0)),"","已中獎")
A8: 0007 | B8: 李怡婷 | C8: =IF(F8="",RAND(),"") -> 0.61569159 | D8: =IF(C8="","",RANK(C8,C:C)) -> 8 | E8: =IF(D8=1,"中獎囉","") | F8: =IF(ISNA(MATCH(A8,抽獎頁面!$J$6:$J$18,0)),"","已中獎")
A9: 0008 | B9: 李淑芬 | C9: =IF(F9="",RAND(),"") -> 0.3801173 | D9: =IF(C9="","",RANK(C9,C:C)) -> 10 | E9: =IF(D9=1,"中獎囉","") | F9: =IF(ISNA(MATCH(A9,抽獎頁面!$J$6:$J$18,0)),"","已中獎")
A10: 0009 | B10: 楊彥智 | C10: =IF(F10="",RAND(),"") -> 0.79693518 | D10: =IF(C10="","",RANK(C10,C:C)) -> 5 | E10: =IF(D10=1,"中獎囉","") | F10: =IF(ISNA(MATCH(A10,抽獎頁面!$J$6:$J$18,0)),"","已中獎")
A11: 0010 | B11: 李秀韋 | C11: =IF(F11="",RAND(),"") -> 0.98474779 | D11: =IF(C11="","",RANK(C11,C:C)) -> 2 | E11: =IF(D11=1,"中獎囉","") | F11: =IF(ISNA(MATCH(A11,抽獎頁面!$J$6:$J$18,0)),"","已中獎")
A12: 0011 | B12: 金志峰 | C12: =IF(F12="",RAND(),"") -> 0.80406109 | D12: =IF(C12="","",RANK(C12,C:C)) -> 4 | E12: =IF(D12=1,"中獎囉","") | F12: =IF(ISNA(MATCH(A12,抽獎頁面!$J$6:$J$18,0)),"","已中獎")
A13: 0012 | B13: 陳雅筑 | C13: =IF(F13="",RAND(),"") -> 0.56865489 | D13: =IF(C13="","",RANK(C13,C:C)) -> 9 | E13: =IF(D13=1,"中獎囉","") | F13: =IF(ISNA(MATCH(A13,抽獎頁面!$J$6:$J$18,0)),"","已中獎")
A14: 0013 | B14: 李函孜 | C14: =IF(F14="",RAND(),"") -> 0.99573857 | D14: =IF(C14="","",RANK(C14,C:C)) -> 1 | E14: =IF(D14=1,"中獎囉","") -> 中獎囉 | F14: =IF(ISNA(MATCH(A14,抽獎頁面!$J$6:$J$18,0)),"","已中獎")
E15: =IF(D15=1,"中獎囉","") | F15: =IF(ISNA(MATCH(A15,抽獎頁面!$J$6:$J$18,0)),"","已中獎")
E16: =IF(D16=1,"中獎囉","") | F16: =IF(ISNA(MATCH(A16,抽獎頁面!$J$6:$J$18,0)),"","已中獎")
E17: =IF(D17=1,"中獎囉","") | F17: =IF(ISNA(MATCH(A17,抽獎頁面!$J$6:$J$18,0)),"","已中獎")
E18: =IF(D18=1,"中獎囉","") | F18: =IF(ISNA(MATCH(A18,抽獎頁面!$J$6:$J$18,0)),"","已中獎")
E19: =IF(D19=1,"中獎囉","") | F19: =IF(ISNA(MATCH(A19,抽獎頁面!$J$6:$J$18,0)),"","已中獎")
E20: =IF(D20=1,"中獎囉","") | F20: =IF(ISNA(MATCH(A20,抽獎頁面!$J$6:$J$18,0)),"","已中獎")
E21: =IF(D21=1,"中獎囉","") | F21: =IF(ISNA(MATCH(A21,抽獎頁面!$J$6:$J$18,0)),"","已中獎")
E22: =IF(D22=1,"中獎囉","") | F22: =IF(ISNA(MATCH(A22,抽獎頁面!$J$6:$J$18,0)),"","已中獎")
E23: =IF(D23=1,"中獎囉","") | F23: =IF(ISNA(MATCH(A23,抽獎頁面!$J$6:$J$18,0)),"","已中獎")
E24: =IF(D24=1,"中獎囉","") | F24: =IF(ISNA(MATCH(A24,抽獎頁面!$J$6:$J$18,0)),"","已中獎")
E25: =IF(D25=1,"中獎囉","") | F25: =IF(ISNA(MATCH(A25,抽獎頁面!$J$6:$J$18,0)),"","已中獎")
E26: =IF(D26=1,"中獎囉","") | F26: =IF(ISNA(MATCH(A26,抽獎頁面!$J$6:$J$18,0)),"","已中獎")
... E494: =IF(D494=1,"中獎囉","") | F494: =IF(ISNA(MATCH(A494,抽獎頁面!$J$6:$J$18,0)),"","已中獎")

Sheet 抽獎頁面
B5: =INDEX(抽獎名冊!$A$2:$A$1000,MATCH(1,抽獎名冊!$D$2:$D$1000,0)) -> 0013 | H5: 獎項 | J5: 工號 | K5: 姓名
H6: 北海道機票 | K6: =IF(ISNA(INDEX(抽獎名冊!$B$2:$B$502,MATCH(J6,抽獎名冊!$A$2:$A$502,0))),"",INDEX(抽獎名冊!$B$2:$B$502,MATCH(J6,抽獎名冊!$A$2:$A$502,0)))
B7: =INDEX(抽獎名冊!$B$2:$B$1000,MATCH(1,抽獎名冊!$D$2:$D$1000,0)) -> 李函孜 | H7: ????? | K7: =IF(ISNA(INDEX(抽獎名冊!$B$2:$B$502,MATCH(J7,抽獎名冊!$A$2:$A$502,0))),"",INDEX(抽獎名冊!$B$2:$B$502,MATCH(J7,抽獎名冊!$A$2:$A$502,0)))
H8: 隨身碟 | K8: =IF(ISNA(INDEX(抽獎名冊!$B$2:$B$502,MATCH(J8,抽獎名冊!$A$2:$A$502,0))),"",INDEX(抽獎名冊!$B$2:$B$502,MATCH(J8,抽獎名冊!$A$2:$A$502,0)))
K9: =IF(ISNA(INDEX(抽獎名冊!$B$2:$B$502,MATCH(J9,抽獎名冊!$A$2:$A$502,0))),"",INDEX(抽獎名冊!$B$2:$B$502,MATCH(J9,抽獎名冊!$A$2:$A$502,0)))
K10: =IF(ISNA(INDEX(抽獎名冊!$B$2:$B$502,MATCH(J10,抽獎名冊!$A$2:$A$502,0))),"",INDEX(抽獎名冊!$B$2:$B$502,MATCH(J10,抽獎名冊!$A$2:$A$502,0)))
K11: =IF(ISNA(INDEX(抽獎名冊!$B$2:$B$502,MATCH(J11,抽獎名冊!$A$2:$A$502,0))),"",INDEX(抽獎名冊!$B$2:$B$502,MATCH(J11,抽獎名冊!$A$2:$A$502,0)))
B12: 長按『F9』將進行亂數洗號 | K12: =IF(ISNA(INDEX(抽獎名冊!$B$2:$B$502,MATCH(J12,抽獎名冊!$A$2:$A$502,0))),"",INDEX(抽獎名冊!$B$2:$B$502,MATCH(J12,抽獎名冊!$A$2:$A$502,0)))
H14: 保溫瓶 | K14: =IF(ISNA(INDEX(抽獎名冊!$B$2:$B$502,MATCH(J14,抽獎名冊!$A$2:$A$502,0))),"",INDEX(抽獎名冊!$B$2:$B$502,MATCH(J14,抽獎名冊!$A$2:$A$502,0)))
K15: =IF(ISNA(INDEX(抽獎名冊!$B$2:$B$502,MATCH(J15,抽獎名冊!$A$2:$A$502,0))),"",INDEX(抽獎名冊!$B$2:$B$502,MATCH(J15,抽獎名冊!$A$2:$A$502,0)))
K16: =IF(ISNA(INDEX(抽獎名冊!$B$2:$B$502,MATCH(J16,抽獎名冊!$A$2:$A$502,0))),"",INDEX(抽獎名冊!$B$2:$B$502,MATCH(J16,抽獎名冊!$A$2:$A$502,0)))
K17: =IF(ISNA(INDEX(抽獎名冊!$B$2:$B$502,MATCH(J17,抽獎名冊!$A$2:$A$502,0))),"",INDEX(抽獎名冊!$B$2:$B$502,MATCH(J17,抽獎名冊!$A$2:$A$502,0)))
K18: =IF(ISNA(INDEX(抽獎名冊!$B$2:$B$502,MATCH(J18,抽獎名冊!$A$2:$A$502,0))),"",INDEX(抽獎名冊!$B$2:$B$502,MATCH(J18,抽獎名冊!$A$2:$A$502,0)))
