Workbook

Sheet 價目表
A1: 本價目表僅供專業人士參考 非廣告用 請勿自行列印 如有相關不法行為與本公司無關
A2: 拋棄式隱形眼鏡首次配戴或未滿18歲以下須持醫師開立6個內有效處方籤才能購買 配戴後需定期由眼科醫師追蹤檢查
B3: 編號 | C3: 商品名稱 | D3: 供應度數 | E3: 售價 | F3: 特價 | G3: 贈品及活動
A4: 日本SINCERE新視野 | B4: 1 | C4: Miche bloomin' 蜜絲綸美日拋 (10片裝) 8.7/14.0 106 shell moon 月光灰 | D4: 0.00/-1.00~-10.00(125/525/575無供應) | E4: 420 | F4: 199
B5: 2 | C5: Miche bloomin' 蜜絲綸美日拋 (10片裝) 8.7/14.0 205 pale jasmine茉莉棕 | D5: 0.00/-1.00~-10.00(125/525/575無供應) | E5: 420 | F5: 199
B6: 3 | C6: Miche bloomin' 蜜絲綸美日拋 (10片裝) 8.7/14.0 206 ivy lady淑女棕 | D6: 0.00/-1.00~-10.00(125/525/575無供應) | E6: 420 | F6: 199
B7: 4 | C7: Miche bloomin' 蜜絲綸美日拋 (10片裝*3) 8.7/14.0 106 shell moon 月光灰 限單一度數顏色 | D7: 0.00/-1.00~-10.00(125/525/575無供應) | E7: 1260 | F7: 499
B8: 5 | C8: Miche bloomin' 蜜絲綸美日拋 (10片裝*3) 8.7/14.0 205 pale jasmine茉莉棕 限單一度數顏色 | D8: 0.00/-1.00~-10.00(125/525/575無供應) | E8: 1260 | F8: 499
B9: 6 | C9: Miche bloomin' 蜜絲綸美日拋 (10片裝*3) 8.7/14.0 206 ivy lady淑女棕 限單一度數顏色 | D9: 0.00/-1.00~-10.00(125/525/575無供應) | E9: 1260 | F9: 499
B10: 7 | C10: Eyeddict 愛酷 (10片裝) 8.7/14.2 02 winter leaf 優雅棕 NEW!! 獨佔販售 | D10: 0.00/-1.00~-7.00(125/525/575無供應) | E10: 420 | F10: 199
B11: 8 | C11: Eyeddict 愛酷 (10片裝) 8.7/14.2 03 baby dual 淑女棕 NEW!! 獨佔販售 | D11: 0.00/-1.00~-7.00(125/525/575無供應) | E11: 420 | F11: 199
B12: 9 | C12: Eyeddict 愛酷 (10片裝*3) 8.7/14.2 02 winter leaf 優雅棕 NEW!! 限單一度數顏色 | D12: 0.00/-1.00~-7.00(125/525/575無供應) | E12: 1260 | F12: 499
B13: 10 | C13: Eyeddict 愛酷 (10片裝*3) 8.7/14.2 03 baby dual 淑女棕 NEW!! 限單一度數顏色 | D13: 0.00/-1.00~-7.00(125/525/575無供應) | E13: 1260 | F13: 499
B14: 11 | C14: FAIRY PRINESS 妃妮公主日拋 (10片裝) 8.7/14.2 粉 出清品庫存有限!! 獨佔販售 | D14: -1.00~-9.00 | E14: 420 | F14: 149
B15: 12 | C15: FAIRY PRINESS 妃妮公主日拋 (10片裝) 8.7/14.2 棕 出清品庫存有限!! 獨佔販售 | D15: -1.00~-9.00 | E15: 420 | F15: 149
B16: 13 | C16: FAIRY PRINESS 妃妮公主日拋 (10片裝) 8.7/14.2 紫 出清品庫存有限!! 獨佔販售 | D16: -1.00~-9.00 | E16: 420 | F16: 149
... B30: 27 | C30: Miche bloomin' 蜜絲綸美月拋 (2片裝) 8.7/14.0 403 luxe mocha摩卡棕 | D30: 0.00/-1.00~-9.00 | E30: 500 | F30: 250
B31: 編號 | C31: 商品名稱 | D31: 供應度數 | E31: 售價 | F31: 特價 | G31: 贈品及活動
A32: 日本AOCMU愛柯目 | B32: 28 | C32: AOCMU (10片裝) 8.6/14.2/GIA12.7 Moonlight Silver月光銀 NEW 獨佔販售 | D32: 0.00/-1.00~-10.00 | E32: 420 | F32: 199
B33: 29 | C33: AOCMU (10片裝) 8.6/14.2/GIA12.7 Bloom 荼蘼粉 NEW!! 獨佔販售 | D33: 0.00/-1.00~-10.00 | E33: 420 | F33: 199
B34: 30 | C34: AOCMU (10片裝) 8.6/14.2/GIA12.7 Green Tea 晨光綠 NEW!! 獨佔販售 | D34: 0.00/-1.00~-10.00 | E34: 420 | F34: 199
B35: 31 | C35: AOCMU (10片裝) 8.6/14.2/GIA12.7 Sunset Color 日落棕 NEW!! 獨佔販售 | D35: 0.00/-1.00~-10.00 | E35: 420 | F35: 199
B36: 32 | C36: AOCMU (10片裝*3) 8.6/14.2/GIA12.7 Moonlight Silver月光銀 NEW!! 獨佔販售 限單一顏色度數 | D36: 0.00/-1.00~-10.00 | E36: 1260 | F36: 499
B37: 33 | C37: AOCMU (10片裝*3) 8.6/14.2/GIA12.7 Bloom 荼蘼粉 NEW!! 獨佔販售 限單一顏色度數 | D37: 0.00/-1.00~-10.00 | E37: 1260 | F37: 499
B38: 34 | C38: AOCMU (10片裝*3) 8.6/14.2/GIA12.7 Green Tea 晨光綠 NEW!! 獨佔販售 限單一顏色度數 | D38: 0.00/-1.00~-10.00 | E38: 1260 | F38: 499
B39: 35 | C39: AOCMU (10片裝*3) 8.6/14.2/GIA12.7 Sunset Color 日落棕 NEW!! 獨佔販售 限單一顏色度數 | D39: 0.00/-1.00~-10.00 | E39: 1260 | F39: 499
B40: 編號 | C40: 商品名稱 | D40: 供應度數 | E40: 售價 | F40: 特價 | G40: 贈品及活動
A41: 日本糖果魔幻 CANDYMAGIC | B41: 36 | C41: SECRET CANDY MAGIC 06 BROWN 日拋 (10片裝) 8.6 | D41: 0.00/-1.00~-8.00 | E41: 399 | F41: 299
B42: 37 | C42: SECRET CANDY MAGIC 14 HAZEL 日拋 (10片裝) 8.6 | D42: 0.00/-1.00~-8.00 | E42: 399 | F42: 299
B43: 38 | C43: SECRET CANDY MAGIC GREGE 迷蹤灰 日拋 (10片裝) 8.6 | D43: 0.00/-1.00~-8.00 | E43: 399 | F43: 299
B44: 39 | C44: SECRET CANDY MAGIC DARK Mocha 巧克力摩卡 日拋 (10片裝) 8.6 | D44: 0.00/-1.00~-8.00 | E44: 399 | F44: 299
B45: 40 | C45: VICTORA CANDYMAGIC SIMPLE SERIES SILKY VEIL SILKY VEIL柔紗棕 日拋 (10片裝) 8.6 | D45: 0.00/-1.00~-8.00 | E45: 299 | F45: 259
B46: 41 | C46: VICTORA CANDYMAGIC SIMPLE SERIES SILKY VEIL DUSTY GRAY 雲霧灰 日拋 (10片裝) 8.6 | D46: 0.00/-1.00~-8.00 | E46: 299 | F46: 259
B47: 42 | C47: VICTORA CANDYMAGIC CHOCOLA 甜巧克力 日拋 (10片裝) 8.6 | D47: 0.00/-1.00~-8.00 | E47: 250 | F47: 199
B48: 43 | C48: VICTORA CANDYMAGIC BLACK 典雅黑 日拋 (10片裝) 8.6 | D48: 0.00/-1.00~-8.00 | E48: 250 | F48: 199
B49: 44 | C49: VICTORA CANDYMAGIC BLACK 明亮棕 日拋 (10片裝) 8.6 | D49: 0.00/-1.00~-8.00 | E49: 250 | F49: 199
B50: 45 | C50: VICTORA CANDYMAGIC CHOCOLA 甜巧克力 日拋 (10片裝*3) 8.6 | D50: 0.00/-1.00~-8.00 | E50: 750 | F50: 499
B51: 46 | C51: VICTORA CANDYMAGIC BLACK 典雅黑 日拋 (10片裝*3) 8.6 | D51: 0.00/-1.00~-8.00 | E51: 750 | F51: 499
B52: 47 | C52: VICTORA CANDYMAGIC BLACK 明亮棕 日拋 (10片裝*3) 8.6 | D52: 0.00/-1.00~-8.00 | E52: 750 | F52: 499
B53: 編號 | C53: 商品名稱 | D53: 供應度數 | E53: 售價 | F53: 特價 | G53: 贈品及活動
A54: 日本FLAMNY | B54: 48 | C54: FLAMNY 佐佐木主希日拋 (10片裝) 8.6/14.5 CHOCO TART 糖心可可塔 | D54: 0.00/-1.00~-10.00 | E54: 360 | F54: 299
B55: 49 | C55: FLAMNY 佐佐木主希日拋 (10片裝) 8.6/14.5 MATCHA TART 京都抹茶派 | D55: 0.00/-1.00~-10.00 | E55: 360 | F55: 299
B56: 50 | C56: FLAMNY 佐佐木主希日拋 (10片裝) 8.6/14.5 MAPLE CHIFFON楓糖蜜戚風 | D56: 0.00/-1.00~-10.00 | E56: 360 | F56: 299
B57: 51 | C57: FLAMNY 佐佐木主希日拋 (10片裝) 8.6/14.5 DARK MOCHA摩卡黑咖啡 | D57: 0.00/-1.00~-10.00 | E57: 360 | F57: 299
B58: 52 | C58: FLAMNY 佐佐木主希日拋 (10片裝) 8.6/14.5 DOUGHNUT BROWN焦糖甜甜圈 | D58: 0.00/-1.00~-10.00 | E58: 360 | F58: 299
B59: 53 | C59: FLAMNY 佐佐木主希日拋 (10片裝) 8.6/14.5 ORANGE BROWNIE橘子布朗尼 | D59: 0.00/-1.00~-10.00 | E59: 360 | F59: 299
B60: 54 | C60: FLAMNY 佐佐木主希日拋 (10片裝) 8.6/14.5 Sakura Roll 夢幻櫻花捲 NEW!! | D60: 0.00/-1.00~-10.00 | E60: 360 | F60: 299
B61: 55 | C61: FLAMNY 佐佐木主希日拋 (10片裝) 8.6/14.5 Cacao Waffle 爵士鬆餅黑 NEW!! | D61: 0.00/-1.00~-10.00 | E61: 360 | F61: 299
B62: 編號 | C62: 商品名稱 | D62: 供應度數 | E62: 售價 | F62: 特價 | G62: 贈品及活動
A63: 日本CRUUM | B63: 56 | C63: CRUUM 日拋 (10片裝) 8.6/14.5 ASH 亞麻灰 NEW!! | D63: 0.00/-1.00~-9.00 | E63: 420 | F63: 370
B64: 57 | C64: CRUUM 日拋 (10片裝) 8.6/14.5 CHAMPAGNE 香檳銅 NEW!! | D64: 0.00/-1.00~-9.00 | E64: 420 | F64: 370
B65: 58 | C65: CRUUM 日拋 (10片裝) 8.6/14.5 STAR 星辰褐 NEW!! | D65: 0.00/-1.00~-9.00 | E65: 420 | F65: 370
B66: 59 | C66: CRUUM 日拋 (10片裝) 8.6/14.5 MOCHA 摩卡咖 NEW!! | D66: 0.00/-1.00~-9.00 | E66: 420 | F66: 370
B67: 60 | C67: CRUUM 日拋 (10片裝) 8.6/14.1 CUSTARD 卡士達棕 NEW!! | D67: 0.00/-1.00~-9.00 | E67: 420 | F67: 370
B68: 61 | C68: CRUUM 日拋 (10片裝) 8.6/14.1 MOOM 月光褐 NEW!! | D68: 0.00/-1.00~-9.00 | E68: 420 | F68: 370
B69: 62 | C69: CRUUM 日拋 (10片裝) 8.6/14.1 LEAF 落葉綠 NEW!! | D69: 0.00/-1.00~-9.00 | E69: 420 | F69: 370
B70: 63 | C70: CRUUM 日拋 (10片裝) 8.6/14.1 BLOSSOM綻放粉 NEW!! | D70: 0.00/-1.00~-9.00 | E70: 420 | F70: 370
B71: 64 | C71: CRUUM 日拋 (10片裝) 8.6/14.1 AQUA 湖水藍 NEW!! | D71: 0.00/-1.00~-9.00 | E71: 420 | F71: 370
B72: 65 | C72: CRUUM 日拋 (10片裝*2) 8.6/14.5 ASH 亞麻灰 NEW!! | D72: 0.00/-1.00~-9.00 | E72: 840 | F72: 600
B73: 66 | C73: CRUUM 日拋 (10片裝*2) 8.6/14.5 CHAMPAGNE 香檳銅 NEW!! 限單一度數顏色 | D73: 0.00/-1.00~-9.00 | E73: 840 | F73: 600
B74: 67 | C74: CRUUM 日拋 (10片裝*2) 8.6/14.5 STAR 星辰褐 NEW!! 限單一度數顏色 | D74: 0.00/-1.00~-9.00 | E74: 840 | F74: 600
B75: 68 | C75: CRUUM 日拋 (10片裝*2) 8.6/14.5 MOCHA 摩卡咖 NEW!! 限單一度數顏色 | D75: 0.00/-1.00~-9.00 | E75: 840 | F75: 600
... B80: 73 | C80: CRUUM 日拋 (10片裝*2) 8.6/14.1 AQUA 湖水藍 NEW!! 限單一度數顏色 | D80: 0.00/-1.00~-9.00 | E80: 840 | F80: 600
A81: 韓國 LENSTOWN (現貨供應) | B81: 編號 | C81: 商品名稱 | D81: 供應度數 | E81: 售價 | F81: 贈品及活動
B82: 74 | C82: MR.格蕾灰 彩色日拋(10片裝) 8.6/14.3/DIA13.4 NEW!! | D82: 0.00/-1.00~-9.00 | E82: 400 | F82: 任購2盒 贈韓國ZERO卸妝霜*1
B83: 75 | C83: MR.丹妮紫 彩色日拋(10片裝) 8.6/14.3/DIA13.4 NEW!! | D83: 0.00/-1.00~-9.00 | E83: 400
B84: 76 | C84: 波希米亞摩卡 彩色日拋(10片裝) 8.6/14.3/DIA12.8 NEW!! | D84: 0.00/-1.00~-9.00 | E84: 400
B85: 77 | C85: 波希米亞蜜桃 彩色日拋(10片裝) 8.6/14.3/DIA12.8 NEW!! | D85: 0.00/-1.00~-9.00 | E85: 400
B86: 78 | C86: 波希米亞卡其 彩色日拋(10片裝) 8.6/14.3/DIA12.8 NEW!! | D86: 0.00/-1.00~-9.00 | E86: 400
B87: 79 | C87: 茉莉裸杏 彩色日拋(10片裝) 8.6/14.3/DIA13.2 NEW!! | D87: 0.00/-1.00~-9.00 | E87: 400
B88: 80 | C88: 茉莉玫瑰 彩色日拋(10片裝) 8.6/14.3/DIA13.2 NEW!! | D88: 0.00/-1.00~-9.00 | E88: 400
B89: 81 | C89: 茉莉暮灰 彩色日拋(10片裝) 8.6/14.3/DIA13.2 NEW!! | D89: 0.00/-1.00~-9.00 | E89: 400
A90: 瞳色DREAMCON 衛醫器輸字025321號 衛醫器輸字028267號 產品及實戴圖詳請參閱官網 http://eyecolor.com.tw/ 或 FB:tweyecolor鏡片瑕疵七日內告知且須保留玻璃瓶享有售後服務 只能更換同款同度同色 拆封後破片不在服務範圍
A91: 韓國 EYECOLOR (現貨供應) | B91: 編號 | C91: 商品名稱 (1片售價) | D91: 供應度數 | E91: 售價 | F91: 贈品及活動
B92: 82 | C92: K STAR 季拋 (1片) 哈妮棕 8.6/14.2 | D92: 0.00/-1.00~-9.00 | E92: 350 | F92: 任購2片 季拋 贈蜜糖天使季拋 2片
B93: 83 | C93: K STAR 季拋 (1片) 聖經橘 8.6/14.0 | D93: 0.00/-1.00~-9.00 | E93: 350
B94: 84 | C94: K STAR 季拋 (1片) 太妍灰 8.6/14.0 | D94: 0.00/-1.00~-9.00 | E94: 350
B95: 85 | C95: 極光 季拋 (1片) 北極灰 8.6/14.2 | D95: 0.00/-1.00~-9.00 | E95: 350
B96: 86 | C96: 極光 季拋 (1片) 水晶灰 8.6/14.2 | D96: 0.00/-1.00~-9.00 | E96: 350
B97: 87 | C97: 極光 季拋 (1片) 湖水綠 8.6/14.5 | D97: 0.00/-1.00~-9.00 | E97: 350
B98: 88 | C98: 極光 季拋 (1片) 櫻花粉 8.6/14.5 | D98: 0.00/-1.00~-9.00 | E98: 350
B99: 89 | C99: 極光 季拋 (1片) 橄欖綠 8.6/14.5 | D99: 0.00/-1.00~-9.00 | E99: 350
B100: 90 | C100: 極光 季拋 (1片) 迷蝶藍 8.6/14.5 | D100: 0.00/-1.00~-9.00 | E100: 350
B101: 91 | C101: AQUA 季拋 (1片) 水吻灰 8.6/14.2/GIA12.7 NEW!! | D101: 0.00/-1.00~-9.00 | E101: 350
B102: 92 | C102: AQUA 季拋 (1片) 水吻棕 8.6/14.2/GIA12.7 NEW!! | D102: 0.00/-1.00~-9.00 | E102: 350
B103: 93 | C103: AQUA 季拋 (1片) 水漾灰 8.6/14.2/GIA12.5 NEW!! | D103: 0.00/-1.00~-9.00 | E103: 350
B104: 94 | C104: AQUA 季拋 (1片) 率性灰 8.6/14.2/GIA12.5 NEW!! | D104: 0.00/-1.00~-9.00 | E104: 350
... B110: 100 | C110: CLASSIC 季拋(1片) 耀眼橙 8.6/14.2 NEW!! | D110: 0.00/-1.00~-9.00 | E110: 350
B111: 101 | C111: K-POP 月拋(1片) 聖經灰 8.6/14.2 NEW!! | D111: 0.00/-1.00~-9.00 | E111: 200 | F111: 任購2片 月拋贈 60ML 保養液
B112: 102 | C112: K-POP 月拋(1片) 炫雅棕 8.6/14.2 NEW!! | D112: 0.00/-1.00~-9.00 | E112: 200
B113: 103 | C113: K-POP 月拋(1片) PONY巧 8.6/14.2 NEW!! | D113: 0.00/-1.00~-9.00 | E113: 200
B114: 104 | C114: K-STYLE 月拋(1片) 流星棕 8.6/14.2 NEW!! | D114: 0.00/-1.00~-9.00 | E114: 200
B115: 105 | C115: K-STYLE 月拋(1片) 銀河灰 8.6/14.2 NEW!! | D115: 0.00/-1.00~-9.00 | E115: 200
A116: 吉優GEOBEAUTY 衛署醫器輸字第024046號 產品及實戴圖詳請參閱官網 http://www.joetech.com.tw/ 或 FB:joetech.geo 鏡片瑕疵七日內告知且須保留玻璃瓶享有售後服務 只能更換同款同度同色 拆封後破片不在服務範圍
A117: 韓國GEO(現貨供應) | B117: 編號 | C117: 商品名稱 (1片售價) | D117: 供應度數 | E117: 售價 | F117: 贈品及活動
B118: 106 | C118: ZOOIN季拋 (1片 ) UPSNOW 淺灰 8.6/15.0 | D118: 0.00/-1.00~-10.00 | E118: 400 | F118: 任購2片 季拋贈 愛爾康 60ML 保養液
B119: 107 | C119: ZOOIN季拋 (1片 ) UPCHOCO 可可 8.6/15.0 | D119: 0.00/-1.00~-10.00 | E119: 400
B120: 108 | C120: ZOOIN季拋 (1片 ) UPBROWNW 棕色 8.6/15.0 | D120: 0.00/-1.00~-10.00 | E120: 400
B121: 109 | C121: ZOOIN季拋 (1片 ) UPGRAY 深灰 8.6/15.0 | D121: 0.00/-1.00~-10.00 | E121: 400
B122: 110 | C122: 大可可季拋 ( 1片 ) 深棕 8.6/15.0 | D122: 0.00/-1.00~-10.00 | E122: 400
...

Sheet 散光多焦對照表
A1: 散光多焦點對照表
A2: 系列 | B2: 產品名稱 | C2: 基弧(mm) | D2: 球面度數 | E2: 散光度數 | F2: 軸度 | G2: 備註
A3: 散光日拋 | B3: 嬌生 超涵水散光日拋30片 | C3: 8.5 | D3: 0.00~-9.00 | E3: 75 / 125 / 175/ 225 | F3: 10 20 70 80 90 100 110 160 170 180 | G3: 散光-2.25 近視600以上無供應
B4: 博士倫 舒服能散光日拋30片 | C4: 8.6 | D4: -1.00~-9.00 | E4: 75 / 125 / 175 | F4: 20 90 160 180
B5: 酷柏 晴潤散光日拋30片 | C5: 8.7 | D5: 0.00~-10.00 | E5: 75 / 125 / 175 | F5: 20 90 160 180 | G5: 近視750以上軸度提供90/180
B6: 酷柏 珂朗清矽水膠散光日拋30片 | C6: 8.6 | D6: -1.00~-9.00 | E6: 75 / 125 / 175 | F6: 10 20 60 70 80 90 100 110 120 160 170 180 | G6: 散光-2.25，軸度10 20 90 160 170 180
A7: 散光雙周拋 | B7: 博士倫 散光雙週拋6片 | C7: 8.5 | D7: -1.00~-9.00 | E7: 75 / 125 / 175 / 225 / 275 | F7: 10 20 90 160 170 180
B8: 嬌生 歐舒適散光雙週拋 | C8: 8.6 | D8: 0.00~-9.00 | E8: 75 / 125 / 175 | F8: 10 20 70 80 90 100 110 160 170 180 | G8: 散光-2.25，軸度10 20 70 80 90 100 110 160 170 180
A9: 散光月拋 | B9: 酷柏 佰視名散光月拋3片 | C9: 8.7 | D9: 0.00~-9.00 | E9: 75 / 125 / 175 / 225 | F9: 10~180
A10: 多焦點日拋 | B10: 安適優嬌生 超涵水多焦點日拋 | C10: 8.4 | D10: 0.00~9.00 | E10: ADD (125)(175)(250)
B11: 酷柏 柯朗清矽水膠多焦 30片 8.7 | C11: 8.7 | D11: +4.50~-6.00 | E11: ADD (100) (200)
B12: 酷柏 寶晴多焦日拋30片 | C12: 8.7 | D12: +4.00~-10.00 | E12: 單一ADD (100)
A13: 彩色散光月拋 | B13: 加美彩色散光月拋 | C13: 8.7 | D13: -2.00~-8.00 | E13: 125/175/225 | F13: 180

Sheet 訂購須知
A1: 訂 購 須 知
A2: 1.每月廠商活動贈品及優惠內容請於截止日3天前訂購 #活動截止將不受理#
A3: 2.訂購單 請附上 公司名稱 / 姓名 / 電話/寄送地址 如填寫不完整 將無法出貨
A4: 3.訂購有度數產品 建議先去眼科取得驗光處方單 確認適合的度數及產品再行訂購
A5: 4.出貨前會依照訂購人姓名順序排列及附贈紙袋包裝(數量少或體積小除外)
A6: 5.下單到貨後 在商品未拆封及折損的前提下如欲更換產品顏色度數 請自付來回件運費$200 為保持產品新鮮度 僅限下單到貨後三個月內購買可更換 <<如不同意請勿下單購買
A7: 6.商品退貨 僅限到貨七天內且商品 如商品包裝不完整折損變形破裂 概不受理退貨
A8: 7.下單到貨後 如發現與下單時所購買的商品度數顏色不符 本公司無條件 於七日內派貨運過去更換
A9: 8.依消保法免費七日鑑賞猶豫期 鑑賞猶豫非試用 拆封視同同意購買 包裝不完整概不退換
A10: 9.拆盒蓋活動為原廠折價活動 如不同意請勿購買避免爭議 如有疑問自行請撥打原廠客服確認是否此類活動
A11: 10.如購買商品為原廠拆盒蓋折價活動 下單前請確認購買的產品顏色及度數是否正確 到貨後概不退換
A12: 11.本公司將不提供任何品牌商品試戴片 如需試戴請上各原廠網站申請
... A20: 訂購請mail至 lensx6@gmail.com 或來電 朱先生 0989317226 line:ideacon

Sheet 到貨時間表
A1: 物流貨到付款
A2: 訂貨 | B2: 結單時間 | C2: 到貨時間
A3: 周一 | B3: AM 11:00前 | C3: 週三
B4: AM 11:00後 | C4: 週四
A5: 週二 | B5: AM 11:00前 | C5: 週四
B6: AM 11:00後 | C6: 週五
A7: 週三 | B7: AM 11:00前 | C7: 週五
B8: AM 11:00後 | C8: 週六或隔周一
A9: 週四 | B9: AM 11:00前 | C9: 週六或隔周一
B10: AM 11:00後 | C10: 隔週二
A11: 週五 | B11: AM 11:00前 | C11: 隔週二
B12: AM 11:00後 | C12: 隔週三
A13: 超商貨到付款 (收到簡訊通知五天內務必取件)
A14: 訂貨 | B14: 結單時間 | C14: 寄貨時間 到貨+2~3天
A15: 周一 | B15: AM 11:00前 | C15: 週二
B16: AM 11:00後 | C16: 週三
A17: 週二 | B17: AM 11:00前 | C17: 週三
B18: AM 11:00後 | C18: 週四
A19: 週三 | B19: AM 11:00前 | C19: 週四
B20: AM 11:00後 | C20: 週五
A21: 週四 | B21: AM 11:00前 | C21: 週五
B22: AM 11:00後 | C22: 隔週一
A23: 週五 | B23: AM 11:00前 | C23: 隔週一
B24: AM 11:00後 | C24: 隔週二
A25: 1.通知到貨時間後 商品再未寄出前 訂單如需臨時修改或加購 原定到貨時間 將延後一天
A26: 2.商品於到貨前一日轉交給物流後 概不受理修改或加購 通知到貨一天請備妥貨款 以便物流公司收款
A27: 3.物流公司配送 有固定路線 只能指定日期 無法指定時段 如不方便請交代櫃檯或同事代收付款
A28: 4.如遇國定假日到貨時間將順延
A29: 5.超商取件 超時未領取 重新配送需加收$120運費
A30: 以上事項 如無法配合 請勿下單訂購

Sheet 新視野促銷品供應度數表
A1: fairy公主 | B1: 棕 | C1: 粉 | D1: 綠 | E1: 紫 | F1: 自然魅 | G1: 黑
A2: 0 | F2: 0 | G2: ˇ
A3: 100 | B3: ˇ | D3: ˇ | F3: 100 | G3: ˇ
A4: 125 | B4: ˇ | C4: ˇ | F4: 125 | G4: ˇ
A5: 150 | B5: ˇ | C5: ˇ | D5: ˇ | F5: 150 | G5: ˇ
A6: 175 | B6: ˇ | C6: ˇ | D6: ˇ | F6: 175
A7: 200 | C7: ˇ | D7: ˇ | F7: 200
A8: 225 | B8: ˇ | C8: ˇ | D8: ˇ | E8: ˇ | F8: 225 | G8: ˇ
A9: 250 | D9: ˇ | F9: 250 | G9: ˇ
A10: 275 | B10: ˇ | D10: ˇ | F10: 275
A11: 300 | B11: ˇ | C11: ˇ | D11: ˇ | F11: 300
A12: 325 | B12: ˇ | C12: ˇ | D12: ˇ | E12: ˇ | F12: 325
A13: 350 | B13: ˇ | C13: ˇ | D13: ˇ | F13: 350
A14: 375 | B14: ˇ | D14: ˇ | F14: 375
A15: 400 | B15: ˇ | C15: ˇ | D15: ˇ | F15: 400 | G15: ˇ
A16: 425 | B16: ˇ | C16: ˇ | D16: ˇ | E16: ˇ | F16: 425 | G16: ˇ
A17: 450 | B17: ˇ | C17: ˇ | D17: ˇ | E17: ˇ | F17: 450 | G17: ˇ
A18: 475 | B18: ˇ | D18: ˇ | E18: ˇ | F18: 475
A19: 500 | C19: ˇ | D19: ˇ | E19: ˇ | F19: 500
A20: 525 | C20: ˇ | D20: ˇ | E20: ˇ | F20: 525
A21: 550 | C21: ˇ | D21: ˇ | F21: 550
A22: 575 | B22: ˇ | C22: ˇ | D22: ˇ | F22: 575
A23: 600 | B23: ˇ | D23: ˇ | F23: 600 | G23: ˇ
A24: 650 | C24: ˇ | D24: ˇ | F24: 650 | G24: ˇ
A25: 700 | E25: ˇ | F25: 700
A26: 750 | B26: ˇ | C26: ˇ | D26: ˇ | F26: 750 | G26: ˇ
A27: 800 | B27: ˇ | C27: ˇ | D27: ˇ | E27: ˇ | F27: 800
A28: 850 | B28: ˇ | D28: ˇ | F28: 850
A29: 900 | B29: ˇ | C29: ˇ | D29: ˇ | E29: ˇ | F29: 900
A30: ( ˇ )才有庫存 沒有的請勿訂購

Sheet 訂購單 物流(5000以上)
A1: 最低出貨金額需滿 $5000 物流配送貨到付款免運費 商品配送請參閱配送時間表 | Q1: =IF(C7="","",VLOOKUP(C7,'訂購單 物流(5000以上)'!$A$1001:$B$1899,2,FALSE))
A2: 訂 購 單 | L2: 下單前請確認是否有誤再行提交訂單 避免影響到貨時間
A3: 公司名稱: | D3: 地址: | G3: 收件資料若無填寫 訂單將不成立 | L3: 1.彩色/月拋/季拋都是單片裝 請選購兩片左右眼可不同度數
A4: 聯絡人: | D4: 連絡電話: | E4: 到貨日期: | I4: 付款金額 | K4: =SUM(J6:J898) -> 0 | L4: 2.600度以上都是50度一跳的規格 如右度數> 600/650/700/750/800/850/900/950/1000
A5: 部門單位 | B5: 姓 名 | C5: 編號 | D5: 產 品 名 稱 | E5: 度數 | F5: 散光 | G5: 軸度 | H5: 數量 | I5: 金額 | J5: 總計 | K5: 贈品/活動 | L5: 3.購買散光產品需填寫 散光及軸度 非散光產品勿填寫
D6: =IF(C6="","",VLOOKUP(C6,'訂購單 物流(5000以上)'!$A$1001:$B$1899,2,FALSE)) | I6: =IF(D6="","",VLOOKUP(D6,'訂購單 物流(5000以上)'!$A$2001:$B$2990,2,FALSE)) | J6: =IF(ISERROR(H6*I6),"",H6*I6) | L6: 4.請提供此EXCEL檔 請勿使用副檔名為 .PDF .ODS.NUMBER
D7: =IF(C7="","",VLOOKUP(C7,'訂購單 物流(5000以上)'!$A$1001:$B$1899,2,FALSE)) | I7: =IF(D7="","",VLOOKUP(D7,'訂購單 物流(5000以上)'!$A$2001:$B$2990,2,FALSE)) | J7: =IF(ISERROR(H7*I7),"",H7*I7) | L7: 5.金額未滿3000 一律不出貨
D8: =IF(C8="","",VLOOKUP(C8,'訂購單 物流(5000以上)'!$A$1001:$B$1899,2,FALSE)) | I8: =IF(D8="","",VLOOKUP(D8,'訂購單 物流(5000以上)'!$A$2001:$B$2990,2,FALSE)) | J8: =IF(ISERROR(H8*I8),"",H8*I8) | L8: 6.商品自行訂購錯誤 如需更換需自行負擔來回件運費$200 下單前請確認清楚明細
D9: =IF(C9="","",VLOOKUP(C9,'訂購單 物流(5000以上)'!$A$1001:$B$1899,2,FALSE)) | I9: =IF(D9="","",VLOOKUP(D9,'訂購單 物流(5000以上)'!$A$2001:$B$2990,2,FALSE)) | J9: =IF(ISERROR(H9*I9),"",H9*I9)
D10: =IF(C10="","",VLOOKUP(C10,'訂購單 物流(5000以上)'!$A$1001:$B$1899,2,FALSE)) | I10: =IF(D10="","",VLOOKUP(D10,'訂購單 物流(5000以上)'!$A$2001:$B$2990,2,FALSE)) | J10: =IF(ISERROR(H10*I10),"",H10*I10)
D11: =IF(C11="","",VLOOKUP(C11,'訂購單 物流(5000以上)'!$A$1001:$B$1899,2,FALSE)) | I11: =IF(D11="","",VLOOKUP(D11,'訂購單 物流(5000以上)'!$A$2001:$B$2990,2,FALSE)) | J11: =IF(ISERROR(H11*I11),"",H11*I11)
D12: =IF(C12="","",VLOOKUP(C12,'訂購單 物流(5000以上)'!$A$1001:$B$1899,2,FALSE)) | I12: =IF(D12="","",VLOOKUP(D12,'訂購單 物流(5000以上)'!$A$2001:$B$2990,2,FALSE)) | J12: =IF(ISERROR(H12*I12),"",H12*I12)
D13: =IF(C13="","",VLOOKUP(C13,'訂購單 物流(5000以上)'!$A$1001:$B$1899,2,FALSE)) | I13: =IF(D13="","",VLOOKUP(D13,'訂購單 物流(5000以上)'!$A$2001:$B$2990,2,FALSE)) | J13: =IF(ISERROR(H13*I13),"",H13*I13)
D14: =IF(C14="","",VLOOKUP(C14,'訂購單 物流(5000以上)'!$A$1001:$B$1899,2,FALSE)) | I14: =IF(D14="","",VLOOKUP(D14,'訂購單 物流(5000以上)'!$A$2001:$B$2990,2,FALSE)) | J14: =IF(ISERROR(H14*I14),"",H14*I14)
D15: =IF(C15="","",VLOOKUP(C15,'訂購單 物流(5000以上)'!$A$1001:$B$1899,2,FALSE)) | I15: =IF(D15="","",VLOOKUP(D15,'訂購單 物流(5000以上)'!$A$2001:$B$2990,2,FALSE)) | J15: =IF(ISERROR(H15*I15),"",H15*I15)
D16: =IF(C16="","",VLOOKUP(C16,'訂購單 物流(5000以上)'!$A$1001:$B$1899,2,FALSE)) | I16: =IF(D16="","",VLOOKUP(D16,'訂購單 物流(5000以上)'!$A$2001:$B$2990,2,FALSE)) | J16: =IF(ISERROR(H16*I16),"",H16*I16)
D17: =IF(C17="","",VLOOKUP(C17,'訂購單 物流(5000以上)'!$A$1001:$B$1899,2,FALSE)) | I17: =IF(D17="","",VLOOKUP(D17,'訂購單 物流(5000以上)'!$A$2001:$B$2990,2,FALSE)) | J17: =IF(ISERROR(H17*I17),"",H17*I17)
D18: =IF(C18="","",VLOOKUP(C18,'訂購單 物流(5000以上)'!$A$1001:$B$1899,2,FALSE)) | I18: =IF(D18="","",VLOOKUP(D18,'訂購單 物流(5000以上)'!$A$2001:$B$2990,2,FALSE)) | J18: =IF(ISERROR(H18*I18),"",H18*I18)
D19: =IF(C19="","",VLOOKUP(C19,'訂購單 物流(5000以上)'!$A$1001:$B$1899,2,FALSE)) | I19: =IF(D19="","",VLOOKUP(D19,'訂購單 物流(5000以上)'!$A$2001:$B$2990,2,FALSE)) | J19: =IF(ISERROR(H19*I19),"",H19*I19)
D20: =IF(C20="","",VLOOKUP(C20,'訂購單 物流(5000以上)'!$A$1001:$B$1899,2,FALSE)) | I20: =IF(D20="","",VLOOKUP(D20,'訂購單 物流(5000以上)'!$A$2001:$B$2990,2,FALSE)) | J20: =IF(ISERROR(H20*I20),"",H20*I20)
... D179: =IF(C179="","",VLOOKUP(C179,'訂購單 物流(5000以上)'!$A$1001:$B$1899,2,FALSE)) | I179: =IF(D179="","",VLOOKUP(D179,'訂購單 物流(5000以上)'!$A$2001:$B$2990,2,FALSE)) | J179: =IF(ISERROR(H179*I179),"",H179*I179)
A1001: 1 | B1001: Miche bloomin' 蜜絲綸美日拋 (10片裝) 8.7/14.0 106 shell moon 月光灰
A1002: 2 | B1002: Miche bloomin' 蜜絲綸美日拋 (10片裝) 8.7/14.0 205 pale jasmine茉莉棕
A1003: 3 | B1003: Miche bloomin' 蜜絲綸美日拋 (10片裝) 8.7/14.0 206 ivy lady淑女棕
A1004: 4 | B1004: Miche bloomin' 蜜絲綸美日拋 (10片裝*3) 8.7/14.0 106 shell moon 月光灰 限單一度數顏色
A1005: 5 | B1005: Miche bloomin' 蜜絲綸美日拋 (10片裝*3) 8.7/14.0 205 pale jasmine茉莉棕 限單一度數顏色
A1006: 6 | B1006: Miche bloomin' 蜜絲綸美日拋 (10片裝*3) 8.7/14.0 206 ivy lady淑女棕 限單一度數顏色
A1007: 7 | B1007: Eyeddict 愛酷 (10片裝) 8.7/14.2 02 winter leaf 優雅棕 NEW!! 獨佔販售
A1008: 8 | B1008: Eyeddict 愛酷 (10片裝) 8.7/14.2 03 baby dual 淑女棕 NEW!! 獨佔販售
A1009: 9 | B1009: Eyeddict 愛酷 (10片裝*3) 8.7/14.2 02 winter leaf 優雅棕 NEW!! 限單一度數顏色
A1010: 10 | B1010: Eyeddict 愛酷 (10片裝*3) 8.7/14.2 03 baby dual 淑女棕 NEW!! 限單一度數顏色
A1011: 11 | B1011: FAIRY PRINESS 妃妮公主日拋 (10片裝) 8.7/14.2 粉 出清品庫存有限!! 獨佔販售
A1012: 12 | B1012: FAIRY PRINESS 妃妮公主日拋 (10片裝) 8.7/14.2 棕 出清品庫存有限!! 獨佔販售
... A1351: 351 | B1351: 愛視潔 雙氧藥水 旅行組 60ML
A2001: Miche bloomin' 蜜絲綸美日拋 (10片裝) 8.7/14.0 106 shell moon 月光灰 | B2001: 199
A2002: Miche bloomin' 蜜絲綸美日拋 (10片裝) 8.7/14.0 205 pale jasmine茉莉棕 | B2002: 199
A2003: Miche bloomin' 蜜絲綸美日拋 (10片裝) 8.7/14.0 206 ivy lady淑女棕 | B2003: 199
A2004: Miche bloomin' 蜜絲綸美日拋 (10片裝*3) 8.7/14.0 106 shell moon 月光灰 限單一度數顏色 | B2004: 499
A2005: Miche bloomin' 蜜絲綸美日拋 (10片裝*3) 8.7/14.0 205 pale jasmine茉莉棕 限單一度數顏色 | B2005: 499
A2006: Miche bloomin' 蜜絲綸美日拋 (10片裝*3) 8.7/14.0 206 ivy lady淑女棕 限單一度數顏色 | B2006: 499
A2007: Eyeddict 愛酷 (10片裝) 8.7/14.2 02 winter leaf 優雅棕 NEW!! 獨佔販售 | B2007: 199
A2008: Eyeddict 愛酷 (10片裝) 8.7/14.2 03 baby dual 淑女棕 NEW!! 獨佔販售 | B2008: 199
A2009: Eyeddict 愛酷 (10片裝*3) 8.7/14.2 02 winter leaf 優雅棕 NEW!! 限單一度數顏色 | B2009: 499
A2010: Eyeddict 愛酷 (10片裝*3) 8.7/14.2 03 baby dual 淑女棕 NEW!! 限單一度數顏色 | B2010: 499
A2011: FAIRY PRINESS 妃妮公主日拋 (10片裝) 8.7/14.2 粉 出清品庫存有限!! 獨佔販售 | B2011: 149
A2012: FAIRY PRINESS 妃妮公主日拋 (10片裝) 8.7/14.2 棕 出清品庫存有限!! 獨佔販售 | B2012: 149
... A2351: 愛視潔 雙氧藥水 旅行組 60ML | B2351: 70

Sheet 訂購單  超商(3000以上20000以下))
A1: 超商取件因有材積限制 出貨金額免運費$3000以上$20000以下適用
A2: 超商收到到貨簡訊 請於五日內至指定超商取件 超時未領取 若重新配送需加收$120運費 | L2: 下單前請確認是否有誤再行提交訂單 避免影響到貨時間
A3: 訂 購 單 | L3: 1.彩色/月拋/季拋都是單片裝 請選購兩片左右眼可不同度數
A4: 全家 店到店 | D4: 店名: 店號: | G4: 收件資料若無填寫 訂單將不成立 | L4: 2.600度以上都是50度一跳的規格 如右度數> 600/650/700/750/800/850/900/950/1000
A5: 取件人: | D5: 手機號碼: | E5: 到貨日期: | I5: 付款金額 | K5: =SUM(J7:J995) -> 0 | L5: 3.購買散光產品需填寫 散光及軸度 非散光產品勿填寫
A6: 部門單位 | B6: 姓 名 | C6: 編號 | D6: 產 品 名 稱 | E6: 度數 | F6: 散光 | G6: 軸度 | H6: 數量 | I6: 金額 | J6: 總計 | K6: 贈品/活動 | L6: 4.請提供此EXCEL檔 請勿使用副檔名為 .PDF .ODS.NUMBER
D7: =IF(C7="","",VLOOKUP(C7,'訂購單 超商(3000以上20000以下))'!$A$1001:$B$1999,2,FALSE)) | I7: =IF(D7="","",VLOOKUP(D7,'訂購單 超商(3000以上20000以下))'!$A$2001:$B$2997,2,FALSE)) | J7: =IF(ISERROR(H7*I7),"",H7*I7) | L7: 5.金額未滿3000 一律不出貨
D8: =IF(C8="","",VLOOKUP(C8,'訂購單 超商(3000以上20000以下))'!$A$1001:$B$1999,2,FALSE)) | I8: =IF(D8="","",VLOOKUP(D8,'訂購單 超商(3000以上20000以下))'!$A$2001:$B$2997,2,FALSE)) | J8: =IF(ISERROR(H8*I8),"",H8*I8) | L8: 6.商品自行訂購錯誤 如需更換需自行負擔來回件運費$120 下單前請確認清楚明細
D9: =IF(C9="","",VLOOKUP(C9,'訂購單 超商(3000以上20000以下))'!$A$1001:$B$1999,2,FALSE)) | I9: =IF(D9="","",VLOOKUP(D9,'訂購單 超商(3000以上20000以下))'!$A$2001:$B$2997,2,FALSE)) | J9: =IF(ISERROR(H9*I9),"",H9*I9) | L9: 7.選擇超商 寄出後無法更改地址 請先確認好
D10: =IF(C10="","",VLOOKUP(C10,'訂購單 超商(3000以上20000以下))'!$A$1001:$B$1999,2,FALSE)) | I10: =IF(D10="","",VLOOKUP(D10,'訂購單 超商(3000以上20000以下))'!$A$2001:$B$2997,2,FALSE)) | J10: =IF(ISERROR(H10*I10),"",H10*I10) | L10: 滿1萬 2%
D11: =IF(C11="","",VLOOKUP(C11,'訂購單 超商(3000以上20000以下))'!$A$1001:$B$1999,2,FALSE)) | I11: =IF(D11="","",VLOOKUP(D11,'訂購單 超商(3000以上20000以下))'!$A$2001:$B$2997,2,FALSE)) | J11: =IF(ISERROR(H11*I11),"",H11*I11) | L11: 滿2萬 2.5%
D12: =IF(C12="","",VLOOKUP(C12,'訂購單 超商(3000以上20000以下))'!$A$1001:$B$1999,2,FALSE)) | I12: =IF(D12="","",VLOOKUP(D12,'訂購單 超商(3000以上20000以下))'!$A$2001:$B$2997,2,FALSE)) | J12: =IF(ISERROR(H12*I12),"",H12*I12) | L12: 滿5萬 3%
D13: =IF(C13="","",VLOOKUP(C13,'訂購單 超商(3000以上20000以下))'!$A$1001:$B$1999,2,FALSE)) | I13: =IF(D13="","",VLOOKUP(D13,'訂購單 超商(3000以上20000以下))'!$A$2001:$B$2997,2,FALSE)) | J13: =IF(ISERROR(H13*I13),"",H13*I13)
D14: =IF(C14="","",VLOOKUP(C14,'訂購單 超商(3000以上20000以下))'!$A$1001:$B$1999,2,FALSE)) | I14: =IF(D14="","",VLOOKUP(D14,'訂購單 超商(3000以上20000以下))'!$A$2001:$B$2997,2,FALSE)) | J14: =IF(ISERROR(H14*I14),"",H14*I14)
D15: =IF(C15="","",VLOOKUP(C15,'訂購單 超商(3000以上20000以下))'!$A$1001:$B$1999,2,FALSE)) | I15: =IF(D15="","",VLOOKUP(D15,'訂購單 超商(3000以上20000以下))'!$A$2001:$B$2997,2,FALSE)) | J15: =IF(ISERROR(H15*I15),"",H15*I15)
D16: =IF(C16="","",VLOOKUP(C16,'訂購單 超商(3000以上20000以下))'!$A$1001:$B$1999,2,FALSE)) | I16: =IF(D16="","",VLOOKUP(D16,'訂購單 超商(3000以上20000以下))'!$A$2001:$B$2997,2,FALSE)) | J16: =IF(ISERROR(H16*I16),"",H16*I16)
D17: =IF(C17="","",VLOOKUP(C17,'訂購單 超商(3000以上20000以下))'!$A$1001:$B$1999,2,FALSE)) | I17: =IF(D17="","",VLOOKUP(D17,'訂購單 超商(3000以上20000以下))'!$A$2001:$B$2997,2,FALSE)) | J17: =IF(ISERROR(H17*I17),"",H17*I17)
D18: =IF(C18="","",VLOOKUP(C18,'訂購單 超商(3000以上20000以下))'!$A$1001:$B$1999,2,FALSE)) | I18: =IF(D18="","",VLOOKUP(D18,'訂購單 超商(3000以上20000以下))'!$A$2001:$B$2997,2,FALSE)) | J18: =IF(ISERROR(H18*I18),"",H18*I18)
D19: =IF(C19="","",VLOOKUP(C19,'訂購單 超商(3000以上20000以下))'!$A$1001:$B$1999,2,FALSE)) | I19: =IF(D19="","",VLOOKUP(D19,'訂購單 超商(3000以上20000以下))'!$A$2001:$B$2997,2,FALSE)) | J19: =IF(ISERROR(H19*I19),"",H19*I19)
D20: =IF(C20="","",VLOOKUP(C20,'訂購單 超商(3000以上20000以下))'!$A$1001:$B$1999,2,FALSE)) | I20: =IF(D20="","",VLOOKUP(D20,'訂購單 超商(3000以上20000以下))'!$A$2001:$B$2997,2,FALSE)) | J20: =IF(ISERROR(H20*I20),"",H20*I20)
D21: =IF(C21="","",VLOOKUP(C21,'訂購單 超商(3000以上20000以下))'!$A$1001:$B$1999,2,FALSE)) | I21: =IF(D21="","",VLOOKUP(D21,'訂購單 超商(3000以上20000以下))'!$A$2001:$B$2997,2,FALSE)) | J21: =IF(ISERROR(H21*I21),"",H21*I21)
D22: =IF(C22="","",VLOOKUP(C22,'訂購單 超商(3000以上20000以下))'!$A$1001:$B$1999,2,FALSE)) | I22: =IF(D22="","",VLOOKUP(D22,'訂購單 超商(3000以上20000以下))'!$A$2001:$B$2997,2,FALSE)) | J22: =IF(ISERROR(H22*I22),"",H22*I22)
D23: =IF(C23="","",VLOOKUP(C23,'訂購單 超商(3000以上20000以下))'!$A$1001:$B$1999,2,FALSE)) | I23: =IF(D23="","",VLOOKUP(D23,'訂購單 超商(3000以上20000以下))'!$A$2001:$B$2997,2,FALSE)) | J23: =IF(ISERROR(H23*I23),"",H23*I23)
D24: =IF(C24="","",VLOOKUP(C24,'訂購單 超商(3000以上20000以下))'!$A$1001:$B$1999,2,FALSE)) | I24: =IF(D24="","",VLOOKUP(D24,'訂購單 超商(3000以上20000以下))'!$A$2001:$B$2997,2,FALSE)) | J24: =IF(ISERROR(H24*I24),"",H24*I24)
... D101: =IF(C101="","",VLOOKUP(C101,'訂購單 超商(3000以上20000以下))'!$A$1001:$B$1999,2,FALSE)) | I101: =IF(D101="","",VLOOKUP(D101,'訂購單 超商(3000以上20000以下))'!$A$2001:$B$2997,2,FALSE)) | J101: =IF(ISERROR(H101*I101),"",H101*I101)
A1001: 1 | B1001: Miche bloomin' 蜜絲綸美日拋 (10片裝) 8.7/14.0 106 shell moon 月光灰
A1002: 2 | B1002: Miche bloomin' 蜜絲綸美日拋 (10片裝) 8.7/14.0 205 pale jasmine茉莉棕
A1003: 3 | B1003: Miche bloomin' 蜜絲綸美日拋 (10片裝) 8.7/14.0 206 ivy lady淑女棕
A1004: 4 | B1004: Miche bloomin' 蜜絲綸美日拋 (10片裝*3) 8.7/14.0 106 shell moon 月光灰 限單一度數顏色
A1005: 5 | B1005: Miche bloomin' 蜜絲綸美日拋 (10片裝*3) 8.7/14.0 205 pale jasmine茉莉棕 限單一度數顏色
A1006: 6 | B1006: Miche bloomin' 蜜絲綸美日拋 (10片裝*3) 8.7/14.0 206 ivy lady淑女棕 限單一度數顏色
A1007: 7 | B1007: Eyeddict 愛酷 (10片裝) 8.7/14.2 02 winter leaf 優雅棕 NEW!! 獨佔販售
A1008: 8 | B1008: Eyeddict 愛酷 (10片裝) 8.7/14.2 03 baby dual 淑女棕 NEW!! 獨佔販售
A1009: 9 | B1009: Eyeddict 愛酷 (10片裝*3) 8.7/14.2 02 winter leaf 優雅棕 NEW!! 限單一度數顏色
A1010: 10 | B1010: Eyeddict 愛酷 (10片裝*3) 8.7/14.2 03 baby dual 淑女棕 NEW!! 限單一度數顏色
A1011: 11 | B1011: FAIRY PRINESS 妃妮公主日拋 (10片裝) 8.7/14.2 粉 出清品庫存有限!! 獨佔販售
A1012: 12 | B1012: FAIRY PRINESS 妃妮公主日拋 (10片裝) 8.7/14.2 棕 出清品庫存有限!! 獨佔販售
... A1351: 351 | B1351: 愛視潔 雙氧藥水 旅行組 60ML
A2001: Miche bloomin' 蜜絲綸美日拋 (10片裝) 8.7/14.0 106 shell moon 月光灰 | B2001: 199
A2002: Miche bloomin' 蜜絲綸美日拋 (10片裝) 8.7/14.0 205 pale jasmine茉莉棕 | B2002: 199
A2003: Miche bloomin' 蜜絲綸美日拋 (10片裝) 8.7/14.0 206 ivy lady淑女棕 | B2003: 199
A2004: Miche bloomin' 蜜絲綸美日拋 (10片裝*3) 8.7/14.0 106 shell moon 月光灰 限單一度數顏色 | B2004: 499
A2005: Miche bloomin' 蜜絲綸美日拋 (10片裝*3) 8.7/14.0 205 pale jasmine茉莉棕 限單一度數顏色 | B2005: 499
A2006: Miche bloomin' 蜜絲綸美日拋 (10片裝*3) 8.7/14.0 206 ivy lady淑女棕 限單一度數顏色 | B2006: 499
A2007: Eyeddict 愛酷 (10片裝) 8.7/14.2 02 winter leaf 優雅棕 NEW!! 獨佔販售 | B2007: 199
A2008: Eyeddict 愛酷 (10片裝) 8.7/14.2 03 baby dual 淑女棕 NEW!! 獨佔販售 | B2008: 199
A2009: Eyeddict 愛酷 (10片裝*3) 8.7/14.2 02 winter leaf 優雅棕 NEW!! 限單一度數顏色 | B2009: 499
A2010: Eyeddict 愛酷 (10片裝*3) 8.7/14.2 03 baby dual 淑女棕 NEW!! 限單一度數顏色 | B2010: 499
A2011: FAIRY PRINESS 妃妮公主日拋 (10片裝) 8.7/14.2 粉 出清品庫存有限!! 獨佔販售 | B2011: 149
A2012: FAIRY PRINESS 妃妮公主日拋 (10片裝) 8.7/14.2 棕 出清品庫存有限!! 獨佔販售 | B2012: 149
... A2351: 愛視潔 雙氧藥水 旅行組 60ML | B2351: 70
