Workbook

Sheet 抽獎名冊
A1: 員工編號 | B1: 中文姓名 | C1: 隨機亂數 | D1: 排序 | E1: 中獎者 | F1: 已中獎標示
A2: 00002 | B2: 金恒貞 | C2: =IF(F2="",RAND(),"") -> 0.61377606 | D2: =IF(C2="","",RANK(C2,C:C)) -> 82 | E2: =IF(D2=1,"中獎囉","") | F2: =IF(ISNA(MATCH(A2,抽獎頁面!$J$3:$J$30,0)),"","已中獎")
A3: 00015 | B3: 韋兆基 | C3: =IF(F3="",RAND(),"") -> 0.64798056 | D3: =IF(C3="","",RANK(C3,C:C)) -> 73 | E3: =IF(D3=1,"中獎囉","") | F3: =IF(ISNA(MATCH(A3,抽獎頁面!$J$3:$J$30,0)),"","已中獎")
A4: 00018 | B4: 阮文中 | C4: =IF(F4="",RAND(),"") -> 0.86462841 | D4: =IF(C4="","",RANK(C4,C:C)) -> 26 | E4: =IF(D4=1,"中獎囉","") | F4: =IF(ISNA(MATCH(A4,抽獎頁面!$J$3:$J$30,0)),"","已中獎")
A5: 00034 | B5: 董愛金 | C5: =IF(F5="",RAND(),"") -> 0.44792186 | D5: =IF(C5="","",RANK(C5,C:C)) -> 119 | E5: =IF(D5=1,"中獎囉","") | F5: =IF(ISNA(MATCH(A5,抽獎頁面!$J$3:$J$30,0)),"","已中獎")
A6: 00040 | B6: 牛世剛 | C6: =IF(F6="",RAND(),"") -> 0.21090909 | D6: =IF(C6="","",RANK(C6,C:C)) -> 170 | E6: =IF(D6=1,"中獎囉","") | F6: =IF(ISNA(MATCH(A6,抽獎頁面!$J$3:$J$30,0)),"","已中獎")
A7: 00049 | B7: 沈振傑 | C7: =IF(F7="",RAND(),"") -> 0.97032452 | D7: =IF(C7="","",RANK(C7,C:C)) -> 8 | E7: =IF(D7=1,"中獎囉","") | F7: =IF(ISNA(MATCH(A7,抽獎頁面!$J$3:$J$30,0)),"","已中獎")
A8: 00108 | B8: 曾蔡美惠 | C8: =IF(F8="",RAND(),"") -> 0.41916741 | D8: =IF(C8="","",RANK(C8,C:C)) -> 126 | E8: =IF(D8=1,"中獎囉","") | F8: =IF(ISNA(MATCH(A8,抽獎頁面!$J$3:$J$30,0)),"","已中獎")
A9: 00118 | B9: 許朱素琴 | C9: =IF(F9="",RAND(),"") -> 0.36226874 | D9: =IF(C9="","",RANK(C9,C:C)) -> 140 | E9: =IF(D9=1,"中獎囉","") | F9: =IF(ISNA(MATCH(A9,抽獎頁面!$J$3:$J$30,0)),"","已中獎")
A10: 00120 | B10: 崔淑卿 | C10: =IF(F10="",RAND(),"") -> 0.3559932 | D10: =IF(C10="","",RANK(C10,C:C)) -> 145 | E10: =IF(D10=1,"中獎囉","") | F10: =IF(ISNA(MATCH(A10,抽獎頁面!$J$3:$J$30,0)),"","已中獎")
A11: 00126 | B11: 張孟東 | C11: =IF(F11="",RAND(),"") -> 0.88923674 | D11: =IF(C11="","",RANK(C11,C:C)) -> 23 | E11: =IF(D11=1,"中獎囉","") | F11: =IF(ISNA(MATCH(A11,抽獎頁面!$J$3:$J$30,0)),"","已中獎")
A12: 00142 | B12: 莊桂安 | C12: =IF(F12="",RAND(),"") -> 0.59534015 | D12: =IF(C12="","",RANK(C12,C:C)) -> 85 | E12: =IF(D12=1,"中獎囉","") | F12: =IF(ISNA(MATCH(A12,抽獎頁面!$J$3:$J$30,0)),"","已中獎")
A13: 00161 | B13: 莊美香 | C13: =IF(F13="",RAND(),"") -> 0.48434431 | D13: =IF(C13="","",RANK(C13,C:C)) -> 114 | E13: =IF(D13=1,"中獎囉","") | F13: =IF(ISNA(MATCH(A13,抽獎頁面!$J$3:$J$30,0)),"","已中獎")
... A210: 40232 | B210: 許慶地 | C210: =IF(F210="",RAND(),"") -> 0.54977071 | D210: =IF(C210="","",RANK(C210,C:C)) -> 101 | E210: =IF(D210=1,"中獎囉","") | F210: =IF(ISNA(MATCH(A210,抽獎頁面!$J$3:$J$30,0)),"","已中獎")

Sheet 抽獎頁面
B2: =INDEX(抽獎名冊!$A$2:$A$210,MATCH(1,抽獎名冊!$D$2:$D$210,0)) -> 03444 | H2: 獎項 | J2: 工號 | K2: 姓名
H3: 北海道機票 | K3: =IF(ISNA(INDEX(抽獎名冊!$B$2:$B$210,MATCH(J3,抽獎名冊!$A$2:$A$210,0))),"",INDEX(抽獎名冊!$B$2:$B$210,MATCH(J3,抽獎名冊!$A$2:$A$210,0)))
B4: =INDEX(抽獎名冊!$B$2:$B$210,MATCH(1,抽獎名冊!$D$2:$D$210,0)) -> 周立孫 | H4: Smart Watch | K4: =IF(ISNA(INDEX(抽獎名冊!$B$2:$B$210,MATCH(J4,抽獎名冊!$A$2:$A$210,0))),"",INDEX(抽獎名冊!$B$2:$B$210,MATCH(J4,抽獎名冊!$A$2:$A$210,0)))
H5: ----- | K5: =IF(ISNA(INDEX(抽獎名冊!$B$2:$B$210,MATCH(J5,抽獎名冊!$A$2:$A$210,0))),"",INDEX(抽獎名冊!$B$2:$B$210,MATCH(J5,抽獎名冊!$A$2:$A$210,0)))
H6: 500元家樂福禮券 | K6: =IF(ISNA(INDEX(抽獎名冊!$B$2:$B$210,MATCH(J6,抽獎名冊!$A$2:$A$210,0))),"",INDEX(抽獎名冊!$B$2:$B$210,MATCH(J6,抽獎名冊!$A$2:$A$210,0)))
H7: 200元全聯禮券 | K7: =IF(ISNA(INDEX(抽獎名冊!$B$2:$B$210,MATCH(J7,抽獎名冊!$A$2:$A$210,0))),"",INDEX(抽獎名冊!$B$2:$B$210,MATCH(J7,抽獎名冊!$A$2:$A$210,0)))
B8: 按住『F9』將進行亂數抽號 放開即停止 | H8: 200元全家禮券 | K8: =IF(ISNA(INDEX(抽獎名冊!$B$2:$B$210,MATCH(J8,抽獎名冊!$A$2:$A$210,0))),"",INDEX(抽獎名冊!$B$2:$B$210,MATCH(J8,抽獎名冊!$A$2:$A$210,0)))
H9: ----- | K9: =IF(ISNA(INDEX(抽獎名冊!$B$2:$B$210,MATCH(J9,抽獎名冊!$A$2:$A$210,0))),"",INDEX(抽獎名冊!$B$2:$B$210,MATCH(J9,抽獎名冊!$A$2:$A$210,0)))
H11: 保溫瓶 | K11: =IF(ISNA(INDEX(抽獎名冊!$B$2:$B$210,MATCH(J11,抽獎名冊!$A$2:$A$210,0))),"",INDEX(抽獎名冊!$B$2:$B$210,MATCH(J11,抽獎名冊!$A$2:$A$210,0)))
B12: 全部獎項 | C12: =15 -> 15 | D12: 抽獎人數 | E12: =COUNTA(抽獎名冊!A2:A220) -> 209 | K12: =IF(ISNA(INDEX(抽獎名冊!$B$2:$B$210,MATCH(J12,抽獎名冊!$A$2:$A$210,0))),"",INDEX(抽獎名冊!$B$2:$B$210,MATCH(J12,抽獎名冊!$A$2:$A$210,0)))
B13: 中獎率 | D13: =C12/E12 -> 0.071770335 | K13: =IF(ISNA(INDEX(抽獎名冊!$B$2:$B$210,MATCH(J13,抽獎名冊!$A$2:$A$210,0))),"",INDEX(抽獎名冊!$B$2:$B$210,MATCH(J13,抽獎名冊!$A$2:$A$210,0)))
K14: =IF(ISNA(INDEX(抽獎名冊!$B$2:$B$210,MATCH(J14,抽獎名冊!$A$2:$A$210,0))),"",INDEX(抽獎名冊!$B$2:$B$210,MATCH(J14,抽獎名冊!$A$2:$A$210,0)))
B15: 獎項 | C15: =COUNTBLANK(J3:J21)-4 -> 15 | D15: 抽獎人數 | E15: =COUNTBLANK(抽獎名冊!F2:F220)-10 -> 209 | K15: =IF(ISNA(INDEX(抽獎名冊!$B$2:$B$210,MATCH(J15,抽獎名冊!$A$2:$A$210,0))),"",INDEX(抽獎名冊!$B$2:$B$210,MATCH(J15,抽獎名冊!$A$2:$A$210,0)))
B16: 中獎率 | D16: =C15/E15 -> 0.071770335
B17: ^^^ 抽獎實況數據 ^^^ | H17: 隨身碟 | K17: =IF(ISNA(INDEX(抽獎名冊!$B$2:$B$210,MATCH(J17,抽獎名冊!$A$2:$A$210,0))),"",INDEX(抽獎名冊!$B$2:$B$210,MATCH(J17,抽獎名冊!$A$2:$A$210,0)))
K18: =IF(ISNA(INDEX(抽獎名冊!$B$2:$B$210,MATCH(J18,抽獎名冊!$A$2:$A$210,0))),"",INDEX(抽獎名冊!$B$2:$B$210,MATCH(J18,抽獎名冊!$A$2:$A$210,0)))
K19: =IF(ISNA(INDEX(抽獎名冊!$B$2:$B$210,MATCH(J19,抽獎名冊!$A$2:$A$210,0))),"",INDEX(抽獎名冊!$B$2:$B$210,MATCH(J19,抽獎名冊!$A$2:$A$210,0)))
K20: =IF(ISNA(INDEX(抽獎名冊!$B$2:$B$210,MATCH(J20,抽獎名冊!$A$2:$A$210,0))),"",INDEX(抽獎名冊!$B$2:$B$210,MATCH(J20,抽獎名冊!$A$2:$A$210,0)))
K21: =IF(ISNA(INDEX(抽獎名冊!$B$2:$B$210,MATCH(J21,抽獎名冊!$A$2:$A$210,0))),"",INDEX(抽獎名冊!$B$2:$B$210,MATCH(J21,抽獎名冊!$A$2:$A$210,0)))
K23: =IF(ISNA(INDEX(抽獎名冊!$B$2:$B$210,MATCH(J23,抽獎名冊!$A$2:$A$210,0))),"",INDEX(抽獎名冊!$B$2:$B$210,MATCH(J23,抽獎名冊!$A$2:$A$210,0)))
K24: =IF(ISNA(INDEX(抽獎名冊!$B$2:$B$210,MATCH(J24,抽獎名冊!$A$2:$A$210,0))),"",INDEX(抽獎名冊!$B$2:$B$210,MATCH(J24,抽獎名冊!$A$2:$A$210,0)))
K25: =IF(ISNA(INDEX(抽獎名冊!$B$2:$B$210,MATCH(J25,抽獎名冊!$A$2:$A$210,0))),"",INDEX(抽獎名冊!$B$2:$B$210,MATCH(J25,抽獎名冊!$A$2:$A$210,0)))
